BEGIN:VCALENDAR
VERSION:2.0
PRODID:-//Camera de Comerţ şi Industrie a Municipiului Bucureşti - ECPv6.15.14//NONSGML v1.0//EN
CALSCALE:GREGORIAN
METHOD:PUBLISH
X-WR-CALNAME:Camera de Comerţ şi Industrie a Municipiului Bucureşti
X-ORIGINAL-URL:https://ccib.ro
X-WR-CALDESC:Evenimente pentru Camera de Comerţ şi Industrie a Municipiului Bucureşti
REFRESH-INTERVAL;VALUE=DURATION:PT1H
X-Robots-Tag:noindex
X-PUBLISHED-TTL:PT1H
BEGIN:VTIMEZONE
TZID:Europe/Moscow
BEGIN:STANDARD
TZOFFSETFROM:+0300
TZOFFSETTO:+0300
TZNAME:MSK
DTSTART:20200101T000000
END:STANDARD
END:VTIMEZONE
BEGIN:VEVENT
DTSTART;VALUE=DATE:20210614
DTEND;VALUE=DATE:20210619
DTSTAMP:20260423T132718
CREATED:20210610T130958Z
LAST-MODIFIED:20210610T132152Z
UID:18233-1623628800-1624060799@ccib.ro
SUMMARY:Săptămâna produselor din Republica Macedonia de Nord
DESCRIPTION:Camera de Comerț și Industrie a Municipiului București și Ambasada Republicii Macedonia de Nord în România au plăcerea să vă invite să vizitați Expoziția: SĂPTĂMÂNA PRODUSELOR DIN REPUBLICA MACEDONIA DE NORD.\nEvenimentul va avea loc in perioada: 14 – 18 iunie 2021\, între orele 11:00 – 17:00\, in Foaierul Aulei Carol I din Palatul CCIB (Strada Ion Ghica nr 4\, sector 3\, etaj 2).\n\n  \nCeremonia de inaugurare va avea loc luni 14 iunie 2021 la ora 11:00 cu participarea: dl. Arjanit Xoxha\, ministrul agriculturii\, silviculturii și gospodăririi apelor din Republica Macedonia de Nord\, dl. Aurel Simion\, secretar de stat în Ministerul Agriculturii și Dezvoltării Rurale\, E.S. Gabriel Atanasov\, ambasadorul extraordinar și plenipotențiar al Republicii Macedonia de Nord în România\, ing. Iuliu Stocklosa\, președintele Camerei de Comerț și Industrie a Municipiului București\, precum si a altor persoane oficiale din cele două țări.\n\n  \nVor fi expuse produse agroalimentare: brânzeturi\, produse din carne\, miere naturală\, vinuri\, sucuri naturale\, produse conservate din legume\, dulciuri etc.\nExpoziția se adresează în primul rând companiilor interesate să cunoască și să achiziționeze produse agro-alimentare din Republica Macedonia de Nord.\n\nVizitarea este gratuită\, fiind necesară însă confirmarea organizatorilor în vederea respectării prevederilor în vigoare pentru prevenirea și combaterea efectelor pandemiei de COVID-19\, în ceea ce privește numărul simultan de vizitatori.\n\nPurtarea măștii de protecție este obligatorie.\n\nDoritorii sunt rugați să trimită solicitările de vizitare a expoziției pe adresele de mail: mircea.toader@ccib.ro  și membri@ccib.ro .\n\nVă așteptăm!\n  \n  \n 
URL:https://ccib.ro/eveniment/saptamana-produse-macedonia-nord-2021/
CATEGORIES:Misiune Economica
ATTACH;FMTTYPE=image/jpeg:https://ccib.ro/wp-content/uploads/2021/06/banner-site-bun.jpg
ORGANIZER;CN="CCIB":MAILTO:membri@ccib.ro;
END:VEVENT
END:VCALENDAR