BEGIN:VCALENDAR
VERSION:2.0
PRODID:-//Camera de Comerţ şi Industrie a Municipiului Bucureşti - ECPv6.15.14//NONSGML v1.0//EN
CALSCALE:GREGORIAN
METHOD:PUBLISH
X-WR-CALNAME:Camera de Comerţ şi Industrie a Municipiului Bucureşti
X-ORIGINAL-URL:https://ccib.ro
X-WR-CALDESC:Evenimente pentru Camera de Comerţ şi Industrie a Municipiului Bucureşti
REFRESH-INTERVAL;VALUE=DURATION:PT1H
X-Robots-Tag:noindex
X-PUBLISHED-TTL:PT1H
BEGIN:VTIMEZONE
TZID:Europe/Moscow
BEGIN:STANDARD
TZOFFSETFROM:+0300
TZOFFSETTO:+0300
TZNAME:MSK
DTSTART:20170101T000000
END:STANDARD
END:VTIMEZONE
BEGIN:VEVENT
DTSTART;TZID=Europe/Moscow:20180319T143000
DTEND;TZID=Europe/Moscow:20180319T170000
DTSTAMP:20260426T012847
CREATED:20180314T152347Z
LAST-MODIFIED:20180314T152347Z
UID:11943-1521469800-1521478800@ccib.ro
SUMMARY:MISIUNE ECONOMICA a  Consiliului de Promovare a Exporturilor din Industria Confecțiilor Textile din India la Camera de Comert si Industrie Bucuresti
DESCRIPTION:Palatul CCIB\, 19 martie 2018\, orele 14:30 – 17:00 \nCamera de Comert si Industrie a Municipiului Bucuresti gazduieste misiunea economica a Consiliului de promovare a exporturilor din Industria Confecțiilor Textile (Apparel Export Promotion Council – APEC) la Palatul CCIB Business Center\, \nAula Carol I\, în ziua de luni\, 19 martie 2018\, intre orele 14:30 – 17:30. \nLa eveniment vor participa Excelența Sa domnul Thanglura Darlong\, noul Ambasador Extraordinar și Plenipotențiar al Indiei în România\, Chitra Suresh\, secretar I economic și comercial\, precum și delegația indiană a Consiliului de promovare a exporturilor din Industria Confecțiilor Textile (Apparel Export Promotion Council – APEC) condusă de președintele acesteia\,  domnul HKL Magu\, alaturi de inca 5 reprezentanti. \nAu fost invitați oficiali din Ministerul pentru Mediul de Afaceri\, Comerț și Antreprenoriat\, specialiști români din domeniul textilelor. \nAPEC este o asociație cu peste 8 mii de membri\, iar delegația prezentă la București dorește să prezinte potențialul industriei confecțiilor textile din India\, informații cu privire la  Târgul internațional de Confecții textile de la New Delhi (16 – 18 iulie 2018) și invitarea firmelor românești interesate să participe la acesta\, oportunități de colaborare între producătorii români și cei indieni în acest domeniu\, inclusiv în domeniul investițiilor reciproce. \nPrezența la eveniment a noii conduceri a Ambasadei Indiei în România va oferi posibilitatea celor prezenți să dialogheze cu privire la colaborarea economică româno-indiană și în alte domenii de activitate. \nParticiparea este gratuită\, iar înscrierile se fac prin mail transmis la adresele: mircea.toader@ccib.ro; sandra.lasculescu@ccib.ro; iar eventuale informații suplimentare pot fi obținute contactând pe consilierul meu pentru relații internaționale\, dl. Mircea Toader\, tel mob. 0725 167 894 sau 0723 144 663. \nPrezența Dvs. la acest eveniment ca și la altele viitoare ne-ar oferi satisfacția ca dezideratul noastru de a transforma Camera de Comerț și Industrie a Municipiului București intr-o ”Casa a Dumneavoastră\, a oamenilor de afaceri din capitala României” poate deveni realitate. \nPROGRAM \n\n\n\n14:00   \nÎnregistrarea participanților și welcome coffee \n \n\n\n14:30     \nAlocuțiune de bun venit și mesajul Dlui Prof. Univ. Dr. Sorin Dimitriu\, președintele CCIB \n \n\n\n14:40\nSalutul Excelenței Sale Dl.. Thanglura Darlong\, Ambasadorul Indiei în România \n \n\n\n14:45\nPrezentare în ppt a Dlui. Shri H K L Magu\, Chairman\, președintele Consiliului de promovare a exporturilor din Industria Cofecțiilor textile din India AEPC\, șeful delegației indiene \n \n\n\n15:00   \nAlocuțiunea dnei. Chitra Suresh\, Secretar I (Comercial și Consular) Ambasada Indiei \n \n\n\n15:15    \nSesiune de întrebări și raspunsuri \n  \n \n\n\n16:00   \nNetworking și tratații \n \n\n\n\nNotă: Urmare invitării unor oficiali din partea ministerelor economice și asociațiilor patronale și profesionale\, este posibil ca unii dintre cei care vor da curs invitației să aibe scurte alocuțiuni.
URL:https://ccib.ro/eveniment/misiune-economica-consiliului-de-promovare-exporturilor-din-industria-confectiilor-textile-din-india-la-camera-de-comert-si-industrie-bucuresti/
LOCATION:Birou  reprezentare CCIB – Londra\, 1 Belgrave Square\, London\, London\, SW1X 8PH\, United Kingdom
CATEGORIES:Misiune Economica
ATTACH;FMTTYPE=image/jpeg:https://ccib.ro/wp-content/uploads/2018/03/BANNER-SITE-CCIB-CONSILIUL-DE-PROMOVARE-TEXTILE-INDIA.jpg
ORGANIZER;CN="CCIB":MAILTO:office@ccib.ro
END:VEVENT
END:VCALENDAR