BEGIN:VCALENDAR
VERSION:2.0
PRODID:-//Camera de Comerţ şi Industrie a Municipiului Bucureşti - ECPv6.15.14//NONSGML v1.0//EN
CALSCALE:GREGORIAN
METHOD:PUBLISH
X-WR-CALNAME:Camera de Comerţ şi Industrie a Municipiului Bucureşti
X-ORIGINAL-URL:https://ccib.ro
X-WR-CALDESC:Evenimente pentru Camera de Comerţ şi Industrie a Municipiului Bucureşti
REFRESH-INTERVAL;VALUE=DURATION:PT1H
X-Robots-Tag:noindex
X-PUBLISHED-TTL:PT1H
BEGIN:VTIMEZONE
TZID:Europe/Moscow
BEGIN:STANDARD
TZOFFSETFROM:+0300
TZOFFSETTO:+0300
TZNAME:MSK
DTSTART:20170101T000000
END:STANDARD
END:VTIMEZONE
BEGIN:VEVENT
DTSTART;VALUE=DATE:20181009
DTEND;VALUE=DATE:20181010
DTSTAMP:20260423T014207
CREATED:20181003T163800Z
LAST-MODIFIED:20181008T112916Z
UID:14183-1539043200-1539129599@ccib.ro
SUMMARY:Forum de Afaceri România - Egipt
DESCRIPTION:Camera de Comerț și Industrie a Municipiului București (CCIB) are plăcerea de a vă trimite\, anexat\, invitația dlui. prof. univ. dr. ing. Sorin Dimitriu\, presedintele CCIB\, la Forumul de Afaceri Româno – Egiptean\, organizat marţi\, 9 octombrie 2018\, ora 12.30 la Palatul CCIB\, etaj II\, Aula Carol I.  \n  \nLa Forum va participa o delegație de oameni de afaceri din Egipt\, membri ai părții egiptene în Consiliul de Afaceri Româno – Egiptean\, condusă de dl. Ahmed Fouad El Sokkary\, copreședinte al Consiliului\, reprezentant al Asociației Oamenilor de Afaceri din Egipt (EBA). Lista delegației egiptene se anexează. Participarea la Forum este gratuită. \n  \n12:00 – 12:30               Înregistrarea participanţilor \n12:30 – 12:35               Alocuţiune deschidere – Prof. Sorin Dimitriu\, PhD\, Preşedintele  Camerei de Comerţ şi Industrie a Municipiului Bucureşti\, Co-Preşedinte al  Consiliului de Afaceri România – Egipt \n12:35 – 12:40              Alocuţiune deschidere – Ing. Ahmed Fouad El Sokkary\, membru în consiliul EBA (Egyptian Businessmen Association) Co-Preşedinte al  Consiliului de Afaceri România – Egipt \n12:40 – 13:00              Oportunităţi de afaceri şi investiţii în Egipt  \n\nSharef Shafii – responsabil de relaţii cu investitorii\, Secţia de Promovare a Investiţiilor\, Autoritatea Generală pentru Investiţii şi Zone Libere (GAFI);\nTarek Mustafa Hashem\, director\, Zona economică Canalul Suez.\n\n13:00 – 13:10              Oportunităţi de investiţii în România. Prezentare susţinută de dna. Raluca Popa\, consilier\, Ministerul pentru Mediul de Afaceri\, Comerţ şi Antreprenoriat; \n13:10 – 13:20              Oferta EXIMBANK pentru companiile din România  care fac export de bunuri şi servicii\,  inclusiv Egipt – dna. Corina Vulpes\, director divizia Marketing & Comercial\, Finanţare\, Garanţii  şi Asigurare\, EXIMBANK România; \n13:20 – 13:35              “Egipt – oportunităţi de investiţii” – dl. Ovidiu Apostol\, director de Dezvoltare\, Marketing şi Comunicare\, ROMELECTRO S.A. \n13:35 – 14:00              Prezentarea delegaţiei egiptene \n14:00 – 14:15              Sesiune de întrebări şi răspunsuri. \n14:15 – 15:00              Întâlniri de afaceri B2B. \n  \nÎnscrierile la eveniment se primesc la adresele de mail: mircea.toader@ccib.ro ; stefan.toader@ccib.ro și membri@ccib.ro \, iar pentru eventuale informații suplimentare vă puteți adresa dlui. Mircea Toader\, consilier al președintelui CCIB pentru relații internaționale\, tel. 0725 167 894 sau 0723 144 663. \nÎn așteptarea confirmării participării\, vă rog să primiți asigurarea deosebitei noastre considerații \nDescarca Lista firme Egipt  Descarca Invitatie \n 
URL:https://ccib.ro/eveniment/forum-afaceri-egipt-oct2018/
LOCATION:Birou  reprezentare CCIB – Londra\, 1 Belgrave Square\, London\, London\, SW1X 8PH\, United Kingdom
CATEGORIES:Eveniment,Noutati
ATTACH;FMTTYPE=image/jpeg:https://ccib.ro/wp-content/uploads/2018/10/banner-site-ccib-romania-egipt.jpg
ORGANIZER;CN="CCIB":MAILTO:office@ccib.ro
END:VEVENT
END:VCALENDAR